BEGIN:VCALENDAR
VERSION:2.0
PRODID:-//wp-events-plugin.com//7.2.3.1//EN
BEGIN:VEVENT
UID:300@americanbeejournal.com
DTSTART;TZID=America/Chicago;VALUE=DATE:20180824
DTEND;TZID=America/Chicago;VALUE=DATE:20180826
DTSTAMP:20180625T124023Z
URL:https://americanbeejournal.com/events/wv-beekeepers-meant-to-bee-fall-
 conference/
SUMMARY:WV Beekeepers “Meant to Bee”  Fall Conference
DESCRIPTION:The WV Beekeepers Association is having its Fall Conference on 
 August 24 &amp\; 25 2018.\nGuest Speakers are Dr Samuel Ramsey and Dr Parr
 y Kietzman.\n\nThe conference will be held in Fairmont WV at the High Tech
  Center in the Robert H Mollohan building( handicap accessible ).\n\nPrere
 gistration is $35 for members before August 10\, 2018.\n\nPlease visit www
 .wvbeekeepers.org to pre Register and get hotel Rates.\n\nContact Debbie M
 artin for Additional information at debbeez7@yahoo.com
LOCATION:High Tech Center - Robert H Mollohan Bldg.\, 1000 Galliher Drive\,
  Fairmont\, WV\, 26554\, United States
GEO:39.4340401;-80.19232019999998
X-APPLE-STRUCTURED-LOCATION;VALUE=URI;X-ADDRESS=1000 Galliher Drive\, Fairm
 ont\, WV\, 26554\, United States;X-APPLE-RADIUS=100;X-TITLE=High Tech Cent
 er - Robert H Mollohan Bldg.:geo:39.4340401,-80.19232019999998
END:VEVENT
BEGIN:VTIMEZONE
TZID:America/Chicago
X-LIC-LOCATION:America/Chicago
BEGIN:DAYLIGHT
DTSTART:20180311T030000
TZOFFSETFROM:-0600
TZOFFSETTO:-0500
TZNAME:CDT
END:DAYLIGHT
END:VTIMEZONE
END:VCALENDAR