BEGIN:VCALENDAR
VERSION:2.0
PRODID:-//wp-events-plugin.com//7.2.3.1//EN
BEGIN:VEVENT
UID:695@americanbeejournal.com
DTSTART;VALUE=DATE:20240209
DTEND;VALUE=DATE:20240211
DTSTAMP:20230609T140551Z
URL:https://americanbeejournal.com/events/western-pa-beekeeping-seminar-2/
SUMMARY:Western Pa. Beekeeping Seminar
DESCRIPTION:Gateway Senior High school\n\nEarly bird tickets on sale in Se
 ptember\n\nFor more information please visit: https://www.beavervalleybee
 s.net/yearly-happening-wpa-sem\n\n&nbsp\;
END:VEVENT
END:VCALENDAR