BEGIN:VCALENDAR
VERSION:2.0
PRODID:-//wp-events-plugin.com//7.2.3.1//EN
BEGIN:VEVENT
UID:867@americanbeejournal.com
DTSTART;VALUE=DATE:20260309
DTEND;VALUE=DATE:20260509
DTSTAMP:20260116T195143Z
URL:https://americanbeejournal.com/events/univ-of-mt-journeyman-level-beek
 eeping-course/
SUMMARY:Univ of MT - Journeyman Level Beekeeping Course
DESCRIPTION:March 9-May 8\, 2026\nAdvance your beekeeping expertise with th
 e University of Montana’s Journeyman Level Beekeeping Course — a focus
 ed\, nine‑week online program for beekeepers ready to deepen their under
 standing of honey bee biology and ecology. Explore how bees interact with 
 native pollinators and plants\, learn detailed internal and external anato
 my\, and develop the skills to diagnose diseases and pests using tools lik
 e microscopy. You’ll also study honey marketing\, labeling\, scientific 
 literature evaluation\, and pollinator protection strategies.\n\nWith flex
 ible online learning and expert instructors\, this course gives you the sc
 ientific insight and practical skills needed to maintain healthier colonie
 s. Completion of UM’s Apprentice Level course or testing out is required
 . Learn more at: https://www.umt.edu/bee/journeyman.php
END:VEVENT
END:VCALENDAR