BEGIN:VCALENDAR
VERSION:2.0
PRODID:-//wp-events-plugin.com//7.2.3.1//EN
BEGIN:VEVENT
UID:538@americanbeejournal.com
DTSTART;VALUE=DATE:20211008
DTEND;VALUE=DATE:20211010
DTSTAMP:20210629T204928Z
URL:https://americanbeejournal.com/events/tennessee-beekeepers-association
 -annual-fall-conference/
SUMMARY:Tennessee Beekeepers Association Annual Fall Conference
DESCRIPTION:Tennessee Beekeepers Association will be holding their Annual F
 all Conference on October 8 &amp\; 9\, 2021 at Middle Tennessee State Univ
 ersity in Murfreesboro.\n35+ Speakers\, Honey Show &amp\; more\n\nSpeakers
  include: Chris Werner (Indian Summer Honey Farm)\, Gary S. Reuter (MN Bee
  Lab)\, Kamon Reynolds\, Randy McCaffrey\, Jay Williams\, David Glover\, D
 r. Jennifer Tsuruda and Kent Williams.\n\nEarly registration: $40/members.
  $50/non-members.\n\nMore info/register at: https://tnbeekeepers.org/tba-
 2021-conference/
END:VEVENT
END:VCALENDAR