BEGIN:VCALENDAR
VERSION:2.0
PRODID:-//wp-events-plugin.com//7.2.3.1//EN
BEGIN:VEVENT
UID:764@americanbeejournal.com
DTSTART;VALUE=DATE:20241011
DTEND;VALUE=DATE:20241013
DTSTAMP:20240703T143104Z
URL:https://americanbeejournal.com/events/tennessee-beekeepers-association
 -annual-fall-conference-more-education-for-more-honey/
SUMMARY:Tennessee Beekeepers Association - Annual Fall Conference "More Edu
 cation for More Honey"
DESCRIPTION:\nSave the date for the 2024 Fall Conference\nThursday\, Octobe
 r 10\, 2024 7:00 pm\nTennessee Beekeepers Association - Delegates and Boar
 d Meeting - MTSU Parlimentary Room\n\n\n\nFriday &amp\; Saturday October 1
 1-12\, 2024\nMiddle Tennessee State University\, Murfreesboro TN at the St
 udent Union Conference Center\nSpeakers will include Dr. Clarence Collison
 \, Kent Williams\, Dr. Becky Masterman and Dr. Priyadarshini Basu\, all ta
 lking about "Education for More Honey." We will have a Honey Show\, Mead S
 how\, and Silent Auction.\n\nFor more information see https://tnbeekeepers
 .org/
END:VEVENT
END:VCALENDAR