BEGIN:VCALENDAR
VERSION:2.0
PRODID:-//wp-events-plugin.com//7.2.3.1//EN
BEGIN:VEVENT
UID:594@americanbeejournal.com
DTSTART;VALUE=DATE:20220622
DTEND;VALUE=DATE:20220623
DTSTAMP:20220216T190715Z
URL:https://americanbeejournal.com/events/take-note-of-your-hive-recordkee
 ping-for-beekeepers-2/
SUMMARY:Take Note of Your Hive: Recordkeeping for Beekeepers
DESCRIPTION:June 22\, 2022 - 6:30 pm - 8 pm - LIVE IN ZOOM\n\n\n\nWhile eve
 n experienced beekeepers can learn from hive notes\, it is an even more im
 portant part of beekeeping for beginners. Good hive notes promote a bett
 er understanding of the dynamics of the hive. Beginning to keep proper be
 ekeeping records (no mental notes!) is one means of assuredly improving y
 our beekeeping success. This means fewer bee losses\, more honey product
 ion\, and better broods. We'll discuss the why\, what\, and how of beeke
 eping records. Then you can decide what's right for you.\n\n\nhttp://www.
 cpe.rutgers.edu/programs/beekeeping.html
END:VEVENT
END:VCALENDAR