BEGIN:VCALENDAR
VERSION:2.0
PRODID:-//wp-events-plugin.com//7.2.3.1//EN
BEGIN:VEVENT
UID:83@americanbeejournal.com
DTSTART;TZID=America/Chicago;VALUE=DATE:20170720
DTEND;TZID=America/Chicago;VALUE=DATE:20170723
DTSTAMP:20160309T150741Z
URL:https://americanbeejournal.com/events/sustainable-biodynamic-beekeeper
 -training-4/
SUMMARY:Sustainable Biodynamic Beekeeper Training - Floyd\, VA
DESCRIPTION:Sustainable Biodynamic Beekeeper Training \n\nFor those who ar
 e prepared for the most in-depth and comprehensive training in beekeeping 
 that we offer at Spikenard! \n\nThis class presents a unique learning opp
 ortunity for all who would like to immerse themselves into a holistic unde
 rstanding of the Sacred Bee. It is this knowledge that inspires and guides
  our practice of keeping and caring for the bees and for working with the 
 earth.\n\nThe main objective of this training is to deepen the understandi
 ng of the honeybees and the laws of nature\, which are the laws of life\, 
 in order to arrive at appropriate beekeeping practices that strengthen the
  honeybee’s compromised immune system and restore health.\n\nBy going be
 yond traditional/organic/natural beekeeping methods\, we will explore beek
 eeping practices that will bring the honeybees and us into the future. A n
 ew way of relating to the animal kingdom is dictated by the needs of our t
 imes. The overarching goal of healing will lead us into a deeper understan
 ding of the most holistic way of enlivening the landscape and forage for t
 he pollinators: biodynamic agriculture.\n\nThis training will have a total
  of 4 sessions (3 days each)\, two in 2016 and two in 2017. Each session w
 ill include lectures\, group sessions\, practical experience with bees and
  artistic activities that will help train our sense of observation\, a nec
 essary tool for rising above ‘recipes’. After completion of the four s
 essions and reading requirements\, the training will finish with a certifi
 cate for biodynamic/sustainable beekeeping. As these sessions are conceive
 d as an organic whole\, they can only be taken as a whole and in proper se
 quence. Number of participants is limited. \n\nDates:\n\n1. June 2-4\, 20
 16\n\n2. August 18-20\, 2016\n\n3. May 11-13\, 2017\n\n4. July 20-22\, 201
 7\n\nCost: $ 1\,280 total\n\nLocation: All sessions will take place at the
  Honeybee Sanctuary Visit www.spikenardfarm.org for registration and more 
 information.\n540.745.2153\ninfo@spikenardfarm.org
LOCATION:Spikenard Farm Honeybee Sanctuary\, 401 Hideaway Lane\, Floyd\, VA
 \, 24091\, United States
GEO:36.9524042;-80.21609519999998
X-APPLE-STRUCTURED-LOCATION;VALUE=URI;X-ADDRESS=401 Hideaway Lane\, Floyd\,
  VA\, 24091\, United States;X-APPLE-RADIUS=100;X-TITLE=Spikenard Farm Hone
 ybee Sanctuary:geo:36.9524042,-80.21609519999998
END:VEVENT
BEGIN:VTIMEZONE
TZID:America/Chicago
X-LIC-LOCATION:America/Chicago
BEGIN:DAYLIGHT
DTSTART:20170312T030000
TZOFFSETFROM:-0600
TZOFFSETTO:-0500
TZNAME:CDT
END:DAYLIGHT
END:VTIMEZONE
END:VCALENDAR