BEGIN:VCALENDAR
VERSION:2.0
PRODID:-//wp-events-plugin.com//7.2.3.1//EN
BEGIN:VEVENT
UID:334@americanbeejournal.com
DTSTART;TZID=America/Chicago;VALUE=DATE:20190330
DTEND;TZID=America/Chicago;VALUE=DATE:20190331
DTSTAMP:20181204T195134Z
URL:https://americanbeejournal.com/events/saba-seminar/
SUMMARY:SABA Seminar
DESCRIPTION:Southern Adirondack Beekeepers Association Seminar in Malta\, N
 Y\n\nGuest Speakers Michael Bush\, author of Lazy Beekeeper and Dr. Kim Sk
 yrm of Massachusetts's Apiary Inspection Program\nThere will also be Prese
 ntations\, Vendors and a Super Raffle.\n\nMore information at www.adironda
 ckbees.org\n\n&nbsp\;
END:VEVENT
BEGIN:VTIMEZONE
TZID:America/Chicago
X-LIC-LOCATION:America/Chicago
BEGIN:DAYLIGHT
DTSTART:20190310T030000
TZOFFSETFROM:-0600
TZOFFSETTO:-0500
TZNAME:CDT
END:DAYLIGHT
END:VTIMEZONE
END:VCALENDAR