BEGIN:VCALENDAR
VERSION:2.0
PRODID:-//wp-events-plugin.com//7.2.3.1//EN
BEGIN:VEVENT
UID:802@americanbeejournal.com
DTSTART;VALUE=DATE:20250607
DTEND;VALUE=DATE:20250608
DTSTAMP:20250115T124620Z
URL:https://americanbeejournal.com/events/new-jersey-beekeepers-associatio
 n-spring-meeting/
SUMMARY:New Jersey Beekeepers Association -- Spring Meeting
DESCRIPTION:Date/Time: Saturday\, June 7\, 2025 8:00 to 4:00pm\nLocation: R
 owan University\, Glassboro\, NJ\nPresentations: Talks on Biology of the h
 oney bee gut\, beekeeping and veterinary medicine\, history of beekeeping 
 in New Jersey\, and Bee Sting allergies: myths and realities\nSpecial pres
 entations on Apiary management (in hive)\, Value-added products\, Equipmen
 t Hacks\, and Bee beard presentation.  Smoker contest is planned.\nCold B
 reakfast\, Boxed Lunch\, and Afternoon snacks included.\n$35  in advance 
 for NJBA members:\n$45 for non-members\,  registration later than 2 weeks
  in advance until the day of the event\nRegistration will begin in April.
   See https://www.sjbeekeepers.org for more details.
END:VEVENT
END:VCALENDAR