BEGIN:VCALENDAR
VERSION:2.0
PRODID:-//wp-events-plugin.com//7.2.3.1//EN
BEGIN:VEVENT
UID:533@americanbeejournal.com
DTSTART;VALUE=DATE:20211008
DTEND;VALUE=DATE:20211010
DTSTAMP:20210604T133027Z
URL:https://americanbeejournal.com/events/missouri-state-beekeepers-fall-c
 onference/
SUMMARY:Missouri State Beekeepers Fall Conference
DESCRIPTION:Missouri State Beekeepers Fall Conference\n\nFriday and Saturda
 y - October 8 and 9\, 2021\n\nUniversity of Central Missouri Student Union
  Bldg\, Warrensburg MO\n\nKeynote Speakers: Bob Binnie and Dr Cameron Jack
 \n\nTheme: Beekeeping Management\n\nMSBA is excited to present a live conf
 erence following a year of Covid online meetings. This two-day meeting beg
 ins at 8 am on Friday and concludes at 3:30 pm on Saturday. There will be 
 plenty of time for questions to our speakers. The keynote speakers’ pres
 entations will focus on the following topics:\n\nQueen Management: Requeen
 ing\, Queen Introduction\, Acceptance\, and Supersedure\n\nHoney Managemen
 t: Moisture\, Temperature\, Time\, and Practices\n\nEquipment Management: 
 Exploring Choices and Efficiencies\n\nOxalic Acid Management: Its Use\, Re
 search\, and Application\n\nDisease Management\, Nosema Ceranae: Disease D
 ynamics\, Monitoring\, and Meaning\n\nThere will be additional breakout cl
 asses taught by qualified Missouri Beekeepers. Some will be presentations 
 qualified for the Great Plains Master Beekeeping Certification. National a
 nd local vendors will display their products for sale in our Vendor Hall. 
 There will be plenty of time for visiting with beekeeping friends and meet
  new ones. Watch for conference information\, pre-registration\, hotel ava
 ilability or campsites on the MSBA website https://mostatebeekers.org and 
 consider making a weekend of it.\n\nFor additional questions\, please send
  them to MSBAConf@gmail.com
END:VEVENT
END:VCALENDAR