BEGIN:VCALENDAR
VERSION:2.0
PRODID:-//wp-events-plugin.com//7.2.3.1//EN
BEGIN:VEVENT
UID:481@americanbeejournal.com
DTSTART;VALUE=DATE:20210130
DTEND;VALUE=DATE:20210131
DTSTAMP:20201102T143631Z
URL:https://americanbeejournal.com/events/metro-atlanta-beekeepers-associa
 tion-online-beekeeping-course/
SUMMARY:Metro Atlanta Beekeepers Association Online Beekeeping Course
DESCRIPTION:Metro Atlanta Beekeepers Association’s annual one day bee sch
 ool will cover all you need to know to get started in beekeeping. Taught b
 y UGA faculty and professional and hobbyist beekeepers\, this virtual clas
 s is followed up with access to several hands-on hive visits during the sp
 ring and summer months\, which will be available online as well.\n\nCourse
  Hours: 9:00am - 3:30pm\n\nTo register visit our website: https://mp.gg/t9
 eyt
END:VEVENT
END:VCALENDAR