BEGIN:VCALENDAR
VERSION:2.0
PRODID:-//wp-events-plugin.com//7.2.3.1//EN
BEGIN:VEVENT
UID:290@americanbeejournal.com
DTSTART;TZID=America/Chicago;VALUE=DATE:20180616
DTEND;TZID=America/Chicago;VALUE=DATE:20180617
DTSTAMP:20180409T140529Z
URL:https://americanbeejournal.com/events/indiana-field-day-at-purdue/
SUMMARY:Indiana Field Day at Purdue
DESCRIPTION:The Beekeepers of Indiana\, partnering with Purdue\, will hold 
 its annual Purdue Field Day.  We have a full agenda of hands on sessions 
 from beginner to advanced including hive inspections\, diagnosing problems
  in your hives\, making nucs\, honey extraction and Top Bar hive education
 .\n\nThe cost is $25 per member\, $35 per non-member and $15 for children 
 under 16.  The price includes a continental breakfast and a hot lunch wit
 h tea or water.  You may pre-register online at our website at The Beekee
 pers of Indiana - PurdueField Day or download the form and pre-register by
  mail.
END:VEVENT
BEGIN:VTIMEZONE
TZID:America/Chicago
X-LIC-LOCATION:America/Chicago
BEGIN:DAYLIGHT
DTSTART:20180311T030000
TZOFFSETFROM:-0600
TZOFFSETTO:-0500
TZNAME:CDT
END:DAYLIGHT
END:VTIMEZONE
END:VCALENDAR