BEGIN:VCALENDAR
VERSION:2.0
PRODID:-//wp-events-plugin.com//7.2.3.1//EN
BEGIN:VEVENT
UID:597@americanbeejournal.com
DTSTART;VALUE=DATE:20220628
DTEND;VALUE=DATE:20220702
DTSTAMP:20220228T142009Z
URL:https://americanbeejournal.com/events/has-2022-university-of-southern-
 indiana/
SUMMARY:HAS 2022 University of Southern Indiana
DESCRIPTION:Register now online! Join us in Evansville\, Indiana\, Tuesday
 \, June 28 – Friday\, July 1\, 2022 for the return of the HAS conference
 .\n\nOn-campus lodging is available through registration or you can choose
  hotel options.\n\nFeatured speakers will include Randy Oliver\, Jerry 
 Hayes\, Dr. Brock Harpur – Purdue University\, and Dr. Dewey Caron –
  Oregon State University.
END:VEVENT
END:VCALENDAR