BEGIN:VCALENDAR
VERSION:2.0
PRODID:-//wp-events-plugin.com//7.2.3.1//EN
BEGIN:VEVENT
UID:512@americanbeejournal.com
DTSTART;VALUE=DATE:20210213
DTEND;VALUE=DATE:20210214
DTSTAMP:20210210T180543Z
URL:https://americanbeejournal.com/events/great-plains-master-beekeeper-me
 eting/
SUMMARY:Great Plains Master Beekeeper meeting
DESCRIPTION:Join us for a bee-filled day of information\, networking and fu
 n on 13 February 2021\, on Zoom.\n\nHere are just SOME of the amazing subj
 ects that will be covered this year.\nBeekeeping Economics\nPrarie Plant S
 trips Project\nWinter Survivability\nCreamed Honey &amp\; Selling Value-Ad
 ded Products\nSpring Management\nEndangered Patagonian Giant Bumble Bee\n+
  Breakout Sessions\n\nRegister here to receive a link to attend: https://s
 sp.qualtrics.com/jfe/form/SV_40aUceKguPkzeTz
END:VEVENT
END:VCALENDAR