BEGIN:VCALENDAR
VERSION:2.0
PRODID:-//wp-events-plugin.com//7.2.3.1//EN
BEGIN:VEVENT
UID:865@americanbeejournal.com
DTSTART;VALUE=DATE:20260131
DTEND;VALUE=DATE:20260201
DTSTAMP:20260106T134314Z
URL:https://americanbeejournal.com/events/giles-county-beekeepers-annual-b
 asic-beekeeping-workshop/
SUMMARY:Giles County Beekeepers - Annual Basic Beekeeping Workshop
DESCRIPTION:Giles County Beekeepers - Annual Basic Beekeeping Workshop\n\nC
 ome learn from your local beekeepers!\n\nWhen: Saturday\, January 31\, 202
 6\n8:30 am Check in (Continental breakfast)\n9:00 am - 5:00 pm Workshop\n(
 Lunch and afternoon refreshments provided)\n\nWhere: Pulaski Recreation Ce
 nter\n333 East College Street\nPulaski\, TN 38478\n\nCost: $30 per person\
 n$50 per family (up to 4 members)\n\nSponsored by Giles County Beekeepers\
 n\nRegistration Deadline: January 23\, 2026\nContact: Jackie Dillingham\nG
 CBA Secretary/Treasurer\nCall or Text: 931-242-0344\nEmail: gilescobeekeep
 ers@gmail.com
END:VEVENT
END:VCALENDAR