BEGIN:VCALENDAR
VERSION:2.0
PRODID:-//wp-events-plugin.com//7.2.3.1//EN
BEGIN:VEVENT
UID:832@americanbeejournal.com
DTSTART;VALUE=DATE:20260220
DTEND;VALUE=DATE:20260222
DTSTAMP:20251013T122848Z
URL:https://americanbeejournal.com/events/eastern-mo-beekeepers-2026-beeke
 eping-workshop-honey-show-weekend/
SUMMARY:Eastern MO Beekeepers 2026 Beekeeping Workshop & Honey Show Weekend
DESCRIPTION:Eastern MO Beekeepers 2026 Beekeeping Workshop &amp\; Honey Sho
 w Weekend\nWhen:  20-21 February\, 2026\nWhere:  Holiday Inn\, St. Louis
  SW\, MO\,  Route 66\nThe 2026 Beekeeping Workshop &amp\; Honey Show Wee
 kend\, hosted by the Eastern MO Beekeepers Association (EMBA)\, will take
  place on February 20 &amp\; 21. This two-day event offers a variety of h
 ands-on learning opportunities for beekeepers of all experience levels—f
 rom beginners to advanced.\nOn Friday\, February 20\, intermediate beekee
 pers can join a special add-on course from 10:30 AM to 5:00 PM\, which inc
 ludes lunch\, snacks\, and early access to the vendor show for just $40. E
 MBA will also host the American Honey Show Training Council (AHSTC) for 
 a full-day certification training\, and the day will wrap up with the EMB
 A Beekeeping Banquet at 6:00 PM—an evening of delicious food and bee-th
 emed entertainment ($48 per person\, sold separately).\nOn Saturday\, Feb
 ruary 21\, the main workshop kicks off with all-day programming (8:00 AM t
 o 6:00 PM) for Beginners and Experienced Beekeepers. Both tracks includ
 e expert instruction\, meals\, and materials for $99 (early bird pricing).
  Saturday also features the Honey Show Competition &amp\; Vendor Show\, 
 our best yet\, both included in the cost of your ticket.\nGuest speakers i
 nclude Greg Rogers\, Kent Williams\, Bryan Zavada\, Jim Masucci\, Frank Ri
 nkevich\, Lewis Bartlett\, Ken Heitkamp\, and John Pashia. Whether you’r
 e just starting out or looking to advance your beekeeping skills\, this we
 ekend has something for everyone!  Plus\, we’ll have an amazing raffle.
 \nFor more info about vendors\, topics\, hotel rates and to buy tickets vi
 sit our website at easternmobeekeepers.com.  See you there!
END:VEVENT
END:VCALENDAR