BEGIN:VCALENDAR
VERSION:2.0
PRODID:-//wp-events-plugin.com//7.2.3.1//EN
BEGIN:VEVENT
UID:137@americanbeejournal.com
DTSTART;TZID=America/Chicago;VALUE=DATE:20170211
DTEND;TZID=America/Chicago;VALUE=DATE:20170212
DTSTAMP:20161128T141410Z
URL:https://americanbeejournal.com/events/eastern-missouri-beekeepers-10th
 -annual-beekeeping-workshop-banquet/
SUMMARY:Eastern Missouri Beekeepers 10th Annual Beekeeping Workshop and Ban
 quet
DESCRIPTION:The Eastern Missouri Beekeepers Association (EMBA) will offer a
  full day of professional beekeeping instruction for beginners and experie
 nced beekeepers on Saturday\, February 11\, 2017\, at Maritz in Fenton\, M
 issouri. Registrants are encouraged to attend The Fifth Annual EMBA St. Lo
 uis Beekeepers Mardi Gras Banquet the evening before the workshop on Frida
 y\, February 10\, at Maritz.\n\nLeading beekeeping educators\, and honey b
 ee health specialists at the University of Minnesota Bee Lab\, and the Hon
 ey Bee Research Centre at the University of Guelph will be among the visit
 ing faculty leading the workshop. Instructors will include Dr. Becky Maste
 rman\, Minnesota Bee Lab Team Leader\, Jessica Helgen\, Minnesota Bee Lab 
 Bee Squad Instructor\, Paul Kelly\, Guelph Honey Bee Research Centre\, Res
 earch and Apiary Manager\, and Daniel Thurston\, Research Technician\, Ont
 ario Beekeepers’ Association\, Technology Transfer Program.\n\nThe Exper
 ienced Beekeepers course will be tailored towards intermediate and expert 
 level beekeepers and will place special emphasis on hive management and ho
 ney bee health issues.\n\nThe Beginners Beekeeping course is intended for 
 novice beekeepers and persons with no prior beekeeping experience. The cla
 ss will cover all aspects of basic beekeeping to prepare students to start
  keeping bees in 2017.\n\nTuition for the workshop is $85 per person if re
 gistered by January 22\, 2017.\nTuition is $95 per person for those regist
 ering on or after January 23rd\nBanquet registration costs $30 \nRegistra
 tion closes February 5th\n\nLunch and refreshments are included with the w
 orkshop. Registration packets will include course materials\, an authorita
 tive reference book\, beekeeping periodicals\, and equipment catalogs.\n\n
 Registration is available online at www.easternmobeekeepers.com\n\nMore in
 formation is available by email to info@easternmobeekeepers.com or calling
  314-669-1828.
LOCATION:Maritz Theater\, 1400 South Highway Dr.\, Fenton\, MO\, 63099\, Un
 ited States
GEO:38.5394888;-90.47721860000001
X-APPLE-STRUCTURED-LOCATION;VALUE=URI;X-ADDRESS=1400 South Highway Dr.\, Fe
 nton\, MO\, 63099\, United States;X-APPLE-RADIUS=100;X-TITLE=Maritz Theate
 r:geo:38.5394888,-90.47721860000001
END:VEVENT
BEGIN:VTIMEZONE
TZID:America/Chicago
X-LIC-LOCATION:America/Chicago
BEGIN:STANDARD
DTSTART:20161106T010000
TZOFFSETFROM:-0500
TZOFFSETTO:-0600
TZNAME:CST
END:STANDARD
END:VTIMEZONE
END:VCALENDAR