BEGIN:VCALENDAR
VERSION:2.0
PRODID:-//wp-events-plugin.com//7.2.3.1//EN
BEGIN:VEVENT
UID:12@americanbeejournal.com
DTSTART;TZID=America/Chicago;VALUE=DATE:20151023
DTEND;TZID=America/Chicago;VALUE=DATE:20151025
DTSTAMP:20151022T170732Z
URL:https://americanbeejournal.com/events/cpba-colorado-professional-beeke
 eping-association-fall-meeting/
SUMMARY:CPBA - Colorado Professional Beekeeping Association - Fall Meeting
DESCRIPTION:The Colorado Professional Beekeeping Association (CPBA) will ho
 ld their Fall Meeting on Friday\, October 23 and Saturday\, October 24\, a
 t the Best Western Plaza Hotel in Longmont\, CO. Featured speaker is Dr. G
 ordon Wardell\, renowned bee biologist\, Chief of Apiary Operations\, Para
 mount Farming\, PAm Board Chairman\, Developer of MegaBee and beekeeping e
 xperience for over 30 years.\n\nhttp://coloradoprobeekeeping.org/events/20
 15-fall-meeting/
LOCATION:Best Western Plaza Hotel\, 1900 Ken Pratt Blvd\, Longmont\, CO\, 8
 0501\, United States
GEO:40.1470456;-105.12388240000001
X-APPLE-STRUCTURED-LOCATION;VALUE=URI;X-ADDRESS=1900 Ken Pratt Blvd\, Longm
 ont\, CO\, 80501\, United States;X-APPLE-RADIUS=100;X-TITLE=Best Western P
 laza Hotel:geo:40.1470456,-105.12388240000001
END:VEVENT
BEGIN:VTIMEZONE
TZID:America/Chicago
X-LIC-LOCATION:America/Chicago
BEGIN:DAYLIGHT
DTSTART:20150308T030000
TZOFFSETFROM:-0600
TZOFFSETTO:-0500
TZNAME:CDT
END:DAYLIGHT
END:VTIMEZONE
END:VCALENDAR