BEGIN:VCALENDAR
VERSION:2.0
PRODID:-//wp-events-plugin.com//7.2.3.1//EN
BEGIN:VEVENT
UID:132@americanbeejournal.com
DTSTART;TZID=America/Chicago:20170126T190000
DTEND;TZID=America/Chicago:20170126T210000
DTSTAMP:20161107T142721Z
URL:https://americanbeejournal.com/events/bennington-county-beekeepers-clu
 b-2017-beginner-short-course/
SUMMARY:Bennington County Beekeepers Club 2017 Beginner Short Course
DESCRIPTION:Bennington County Beekeepers Club 2017 Beginner Short Course\n\
 nJanuary 26\, February 2\, 9\, 23\, March 2 7-9 PM\nVT Veteran's Home Benn
 ington VT\nContact Jeanne Davis\njdavisbwheat@comcast.net\n802-823-7955
LOCATION:VT Veteran's Home\, 325 North St\, Bennington\, VT\, 05201\, Unite
 d States
GEO:42.887577;-73.196121
X-APPLE-STRUCTURED-LOCATION;VALUE=URI;X-ADDRESS=325 North St\, Bennington\,
  VT\, 05201\, United States;X-APPLE-RADIUS=100;X-TITLE=VT Veteran's Home:g
 eo:42.887577,-73.196121
END:VEVENT
BEGIN:VTIMEZONE
TZID:America/Chicago
X-LIC-LOCATION:America/Chicago
BEGIN:STANDARD
DTSTART:20161106T010000
TZOFFSETFROM:-0500
TZOFFSETTO:-0600
TZNAME:CST
END:STANDARD
END:VTIMEZONE
END:VCALENDAR