BEGIN:VCALENDAR
VERSION:2.0
PRODID:-//wp-events-plugin.com//7.2.3.1//EN
BEGIN:VEVENT
UID:587@americanbeejournal.com
DTSTART;VALUE=DATE:20220307
DTEND;VALUE=DATE:20220329
DTSTAMP:20220216T185910Z
URL:https://americanbeejournal.com/events/bee-ginners-beekeeping-the-basic
 s-of-apiculture-2/
SUMMARY:Bee-ginner's Beekeeping: The Basics of Apiculture
DESCRIPTION:March 7-28\, 2022 - SELF PACED ONLINE CLASS OR May 2-23\, 2022 
 - SELF PACED ONLINE CLASS\n\nParticipants can complete the course content 
 (which will take approximately 16-17 hours) at their own pace anytime duri
 ng the period the course is open. There is an optional live Q &amp\; A ses
 sion with the instructors during which you can ask questions about the cou
 rse content.\n\nhttp://www.cpe.rutgers.edu/programs/beekeeping.html
END:VEVENT
END:VCALENDAR