BEGIN:VCALENDAR
VERSION:2.0
PRODID:-//wp-events-plugin.com//7.2.3.1//EN
BEGIN:VEVENT
UID:285@americanbeejournal.com
DTSTART;TZID=America/Chicago:20181127T193000
DTEND;TZID=America/Chicago:20181127T193000
DTSTAMP:20181018T135740Z
URL:https://americanbeejournal.com/events/back-yard-beekeepers-association
 -monthly-meetings-connecticut-2-2018-11-27/
SUMMARY:Back Yard Beekeepers Association Monthly Meetings - Connecticut
DESCRIPTION:The Back Yard Beekeepers Association (BYBA) has been educating 
 the public about honey bees and beekeeping for twenty + years.  With over
  400 members\, our association has grown to become one of the Nation’s l
 argest regional clubs for beekeeping hobbyists. Some of our members are ju
 st getting started as beekeepers\, and some have enjoyed this hobby for ye
 ars. All share an interest in the wonderful and remarkable world of the ho
 ney bee. This regional club is dedicated to promoting beekeeping as a hobb
 y\, and spreading the good word about the remarkable honey bee.\n\nMarch 2
 7\, 2018 Christy Hemenway: Top Bar Hives\n\nApril 24\, 2018 Roberta Glat
 z: The Biology of Swarming\n\nMay 22\, 2018 Peter Borst: Comb Honey\n\nJu
 ne 26\, 2018 Pot Luck Dinner and Silent Auction\n\nSeptember 25\, 2018 R
 ichard Cowles: The Queen of Your Dreams\n\nOctober 30\, 2018 Dewey Caron:
  Working Toward Natural/Treatment-Free Colony Management\n\nNovember 27\,
  2018 Bill Hesbach: Over-wintering\n\nThe purpose of the BYBA is to provi
 de it’s membership with interesting and practical information about the 
 “how-to’s” of beekeeping.   The club also provides the general pub
 lic with educational programs about honey bees and the benefits of beekeep
 ing in our communities.  The BYBA is a not for profit\, 501C-3 charitable
  organization.\n\nThere are 9 monthly meetings that begin at 7:30 pm on th
 e last Tuesday of the month in January\, February\, March\, April\, May\, 
 June\, September\, October and November and are held at the Norfield Churc
 h Community Room\, 64 Norfield Road\, Weston\, Connecticut.\n\nThere are t
 wo meetings designed specifically for new beekeepers (The Newbees and Spec
 ial Topics) at 6:00 pm\, prior to our regular meetings.  We encourage all
  to come!  These events are free and open to the public.
LOCATION:Norfield Church Community Room\, 64 Norfield Road\, Weston\, CT\, 
 United States
GEO:41.20244659999999;-73.3769671
X-APPLE-STRUCTURED-LOCATION;VALUE=URI;X-ADDRESS=64 Norfield Road\, Weston\,
  CT\, United States;X-APPLE-RADIUS=100;X-TITLE=Norfield Church Community R
 oom:geo:41.20244659999999,-73.3769671
END:VEVENT
BEGIN:VTIMEZONE
TZID:America/Chicago
X-LIC-LOCATION:America/Chicago
BEGIN:STANDARD
DTSTART:20181104T010000
TZOFFSETFROM:-0500
TZOFFSETTO:-0600
TZNAME:CST
END:STANDARD
END:VTIMEZONE
END:VCALENDAR