BEGIN:VCALENDAR
VERSION:2.0
PRODID:-//wp-events-plugin.com//7.2.3.1//EN
BEGIN:VEVENT
UID:780@americanbeejournal.com
DTSTART;VALUE=DATE:20250127
DTEND;VALUE=DATE:20250128
DTSTAMP:20241021T145943Z
URL:https://americanbeejournal.com/events/back-yard-beekeepers-association
 -bee-school-2025-connecticut-3/
SUMMARY:Back Yard Beekeepers Association — Bee School 2025 - Connecticut
DESCRIPTION:Experience the Magic of Honey Bees this Year! In Person at the 
 Emmanuel Church Parish Hall\, 285 Lyons Plain Road Weston CT 06883\n\n 	Ja
 nuary 6 from 7-9 m.\n 	January 13 from 7-9 m.\n 	January 20 from 7-9 m.\n 
 	January 27 from 7-9 m.\n 	Possible snow date February 3 from 7-9 m.\n\nEa
 ch session will be recorded and made available to all registrants to revie
 w as needed in the future. The cost will be $60 which includes one year m
 embership to BYBA. For those who are already members\, the cost will be $
 30.\nBee School provides aspiring beekeepers and those searching to learn 
 more about honey bees and ways to support pollinators with the basics of b
 eekeeping. Beekeepers in the early years of their beekeeping journey will 
 also gain valuable insights from joining in on the lectures and getting th
 e opportunity to network with other like-minded individuals.\nBee School c
 overs everything from basic honey bee biology\, safety issues\, types of e
 quipment\, evolving roles of the worker bee\, honey bee pests and diseases
 \, and more. Our goal is to connect each “graduate” with a mentor\, en
 courage participation in the club’s many workshops\, and welcome the new
  members into our monthly “New Bee” Zoom discussions. We hope to see y
 ou at our monthly meetings which feature both regional and nationally know
 n speakers on aspects of beekeeping.\nVisit the website to learn more abou
 t Bee School and to register. https://backyardbeekeepers.com. Contact Pau
 la Wolf at paulawolf@email.com for more information.\n\n
END:VEVENT
END:VCALENDAR