BEGIN:VCALENDAR
VERSION:2.0
PRODID:-//wp-events-plugin.com//7.2.3.1//EN
BEGIN:VEVENT
UID:622@americanbeejournal.com
DTSTART;VALUE=DATE:20220726
DTEND;VALUE=DATE:20220727
DTSTAMP:20220531T131456Z
URL:https://americanbeejournal.com/events/at-home-beekeeping-series-prepar
 ing-for-fall-with-jack-rowe-aces/
SUMMARY:At Home Beekeeping Series: Preparing for fall\, with Jack Rowe (ACE
 S)
DESCRIPTION:6:30 –7:30 pm Central\n\nWe're offering beekeepers the chance
  to attend virtual meetings from the comfort of one's own home using a com
 puter or mobile device. Speakers include university researchers and extens
 ion specialists from across the SE US as well as USDA ARS researchers. Eac
 h event will bring participants up to date on timely beekeeping topics wit
 h time for Q &amp\; A included.\n\nMore information on the series at https
 ://www.aces.edu/blog/topics/bees-pollinators/at-home-beekeeping-series/?cn
 -reloaded=1\n&nbsp\;
END:VEVENT
END:VCALENDAR