BEGIN:VCALENDAR
VERSION:2.0
PRODID:-//wp-events-plugin.com//7.2.3.1//EN
BEGIN:VEVENT
UID:581@americanbeejournal.com
DTSTART;VALUE=DATE:20220426
DTEND;VALUE=DATE:20220427
DTSTAMP:20220113T145632Z
URL:https://americanbeejournal.com/events/at-home-beekeeping-series-6/
SUMMARY:At Home Beekeeping Series
DESCRIPTION:We’re offering beekeepers the chance to attend virtual meetin
 gs from the comfort of one’s own home using a computer or mobile device.
  Each event will bring participants up to date on timely beekeeping topics
 . Time for Q&amp\;A included.\n\nThis series will be offered the last Tues
 day of each month from 6:30 to 7:30 p.m.\n\nTopics include:\n• Jan. 25: 
 The many facets of honey bee nutrition\, with Priya Chakrabarti (Mississip
 pi State University)\n• Feb. 22: Integrated Pest Management in the hive\
 , with Cameron Jack (University of Florida)\n• March 25: Methods for con
 trolling Varroa that work\, with Jennifer Berry (University of Georgia)\n
 • April 26: How to make great queens and avoid poor ones\, with David Ta
 rpy (North Carolina State University)\n\nJoin via Zoom at: https://auburn.
 zoom.us/j/904522838\n\nJoin via Facebook Live at: https://www.facebook.com
 /LawrenceCountyextension/
END:VEVENT
END:VCALENDAR