BEGIN:VCALENDAR
VERSION:2.0
PRODID:-//wp-events-plugin.com//7.2.3.1//EN
BEGIN:VEVENT
UID:791@americanbeejournal.com
DTSTART:20250624T180000Z
DTEND:20250624T193000Z
DTSTAMP:20241113T193944Z
URL:https://americanbeejournal.com/events/at-home-beekeeping-series-14/
SUMMARY:At Home Beekeeping Series -
DESCRIPTION:The Alabama Extension beekeeping team presents the At Home Beek
 eeping Series. This online series promotes educational information for bee
 keepers. This gives beekeepers the chance to attend meetings from the comf
 ort of one’s own home using a computer or mobile device. Each session in
 cludes updates on timely beekeeping topics as well as a question and answe
 r session.\n\n 	June 24 — TBD\n\n 	Liz Walsh\, United States Department 
 of Agriculture-Agricultural Research Service\n\n\n\nJoin Online\nWhen: Th
 e last Tuesday of each month from 6:30 to 7:30 p.m. Central Time\nWhere: T
 his series is presented through Zoom\, an online video platform\, and thro
 ugh Facebook Live on the Lawrence County Alabama Extension Office Facebook
  page.\n\nInformation for the entire series can be found here: https://ww
 w.aces.edu/blog/topics/bees-pollinators/at-home-beekeeping-series/.  The 
 direct Zoom link for the webinar is:  https://auburn.zoom.us/j/904522838\
 n\nRecordings from this series are available for only two weeks after each
  session on the Lawrence County Alabama Extension Office Facebook page. Fo
 r more information on the At Home Beekeeping Series\, contact Allyson Shab
 el at ams0137@aces.edu.\n\n[pdf-embedder url="https://americanbeejournal.c
 om/wp-content/uploads/2024/11/AHB-Flyer-November-2024.pdf" title="AHB Flye
 r- November 2024"]
END:VEVENT
END:VCALENDAR