BEGIN:VCALENDAR
VERSION:2.0
PRODID:-//wp-events-plugin.com//7.2.3.1//EN
BEGIN:VEVENT
UID:789@americanbeejournal.com
DTSTART:20250429T180000Z
DTEND:20250429T193000Z
DTSTAMP:20241113T193825Z
URL:https://americanbeejournal.com/events/at-home-beekeeping-series-12/
SUMMARY:At Home Beekeeping Series -
DESCRIPTION:The Alabama Extension beekeeping team presents the At Home Beek
 eeping Series. This online series promotes educational information for bee
 keepers. This gives beekeepers the chance to attend meetings from the comf
 ort of one’s own home using a computer or mobile device. Each session in
 cludes updates on timely beekeeping topics as well as a question and answe
 r session.\n\n 	April 29 — Honeybee Nest Architecture\n\n 	Michael Smith
 \, Auburn University\n\n\n\nJoin Online\nWhen: The last Tuesday of each m
 onth from 6:30 to 7:30 p.m. Central Time\nWhere: This series is presented 
 through Zoom\, an online video platform\, and through Facebook Live on the
  Lawrence County Alabama Extension Office Facebook page.\n\nInformation fo
 r the entire series can be found here: https://www.aces.edu/blog/topics/b
 ees-pollinators/at-home-beekeeping-series/.  The direct Zoom link for the
  webinar is:  https://auburn.zoom.us/j/904522838\n\nRecordings from this 
 series are available for only two weeks after each session on the Lawrence
  County Alabama Extension Office Facebook page. For more information on th
 e At Home Beekeeping Series\, contact Allyson Shabel at ams0137@aces.edu.\
 n\n[pdf-embedder url="https://americanbeejournal.com/wp-content/uploads/20
 24/11/AHB-Flyer-November-2024.pdf" title="AHB Flyer- November 2024"]
END:VEVENT
END:VCALENDAR