BEGIN:VCALENDAR
VERSION:2.0
PRODID:-//wp-events-plugin.com//7.2.3.1//EN
BEGIN:VEVENT
UID:600@americanbeejournal.com
DTSTART;VALUE=DATE:20220410
DTEND;VALUE=DATE:20220411
DTSTAMP:20220308T171110Z
URL:https://americanbeejournal.com/events/asu-hobby-beekeeping-class-april
 -2022-in-person/
SUMMARY:ASU Hobby Beekeeping Class - April 2022 (In-Person)
DESCRIPTION:more information and enrollment at https://courses.cpe.asu.edu/
 browse/sols/courses/hobby-beekeeping---april-2022-in-person\n\n&nbsp\;
END:VEVENT
END:VCALENDAR