BEGIN:VCALENDAR
VERSION:2.0
PRODID:-//wp-events-plugin.com//7.2.3.1//EN
BEGIN:VEVENT
UID:270@americanbeejournal.com
DTSTART;TZID=America/Chicago:20180616T100000
DTEND;TZID=America/Chicago:20180616T120000
DTSTAMP:20180220T143411Z
URL:https://americanbeejournal.com/events/apiary-open-house-byron-illinois
 /
SUMMARY:Apiary Open House - Byron\, Illinois
DESCRIPTION:Apiary Open House - This year's event to be held at Jeff Ludwi
 g's queen mating yard at 1721 Water Road in Byron\, Illinois. Hot dog\, ch
 ips and a drink provided by Stateline Beekeeping Association.  Queen rear
 ing questions and answers\, and hands-on demonstrations will be offered.
   Please bring a guest.  Free.  If planning to attend\, please call 81
 5-703-7436 so we can get a head count for food.
LOCATION:Jeff Ludwig's Queen Mating Yard\, 1721 Water Road\, Byron\, IL\, U
 nited States
GEO:42.1587231;-89.3028506
X-APPLE-STRUCTURED-LOCATION;VALUE=URI;X-ADDRESS=1721 Water Road\, Byron\, I
 L\, United States;X-APPLE-RADIUS=100;X-TITLE=Jeff Ludwig's Queen Mating Ya
 rd:geo:42.1587231,-89.3028506
END:VEVENT
BEGIN:VTIMEZONE
TZID:America/Chicago
X-LIC-LOCATION:America/Chicago
BEGIN:DAYLIGHT
DTSTART:20180311T030000
TZOFFSETFROM:-0600
TZOFFSETTO:-0500
TZNAME:CDT
END:DAYLIGHT
END:VTIMEZONE
END:VCALENDAR