BEGIN:VCALENDAR
VERSION:2.0
PRODID:-//wp-events-plugin.com//7.2.3.1//EN
BEGIN:VEVENT
UID:301@americanbeejournal.com
DTSTART;TZID=America/Chicago;VALUE=DATE:20180921
DTEND;TZID=America/Chicago;VALUE=DATE:20180923
DTSTAMP:20180703T140902Z
URL:https://americanbeejournal.com/events/alabama-beekeepers-association-a
 nnual-fall-conference/
SUMMARY:Alabama Beekeepers Association Annual Fall Conference
DESCRIPTION:For more information visit www.alabamabeekeepers.com\n\n&nbsp\;
LOCATION:Clanton Conference and Performing Arts Center\, 1850 Lay Dam Road\
 , Clanton\, AL\, 35045\, United States
GEO:32.8728881;-86.62158469999997
X-APPLE-STRUCTURED-LOCATION;VALUE=URI;X-ADDRESS=1850 Lay Dam Road\, Clanton
 \, AL\, 35045\, United States;X-APPLE-RADIUS=100;X-TITLE=Clanton Conferenc
 e and Performing Arts Center:geo:32.8728881,-86.62158469999997
END:VEVENT
BEGIN:VTIMEZONE
TZID:America/Chicago
X-LIC-LOCATION:America/Chicago
BEGIN:DAYLIGHT
DTSTART:20180311T030000
TZOFFSETFROM:-0600
TZOFFSETTO:-0500
TZNAME:CDT
END:DAYLIGHT
END:VTIMEZONE
END:VCALENDAR