BEGIN:VCALENDAR
VERSION:2.0
PRODID:-//wp-events-plugin.com//7.2.3.1//EN
BEGIN:VEVENT
UID:514@americanbeejournal.com
DTSTART;VALUE=DATE:20210403
DTEND;VALUE=DATE:20210404
DTSTAMP:20210223T150450Z
URL:https://americanbeejournal.com/events/adaptive-bee-breeding-techniques
 -and-philosophies-for-the-future/
SUMMARY:Adaptive Bee Breeding: Techniques and Philosophies for the Future
DESCRIPTION:This is an intro to queen breeding course with a panel of queen
  producers from CA\, OR\, NM\, TX\, ND\, MI\, FL\, NY\, MA\, and MD.\n\nAd
 aptive Bee Breeding: Techniques and Philosophies for the Future\n\nApril 3
 \, 2021\n\n10am-3pm MST via ZOOM\n\nTo register\, visit: http://bit.ly/nec
 tarnomad
END:VEVENT
END:VCALENDAR