BEGIN:VCALENDAR
VERSION:2.0
PRODID:-//wp-events-plugin.com//7.2.3.1//EN
BEGIN:VEVENT
UID:96@americanbeejournal.com
DTSTART;TZID=America/Chicago;VALUE=DATE:20160611
DTEND;TZID=America/Chicago;VALUE=DATE:20160612
DTSTAMP:20160317T195951Z
URL:https://americanbeejournal.com/events/2016-iowa-honey-producers-associ
 ation-summer-field-day/
SUMMARY:2016 Iowa Honey Producers Association Summer Field Day
DESCRIPTION:Registration: 8:30\nField Day: 9:00 – 3:30\nSaturday\, June 1
 1\, 2016\nGoodell Community Center and Pat &amp\; Peggy Ennis’ Apiary\n(
 315 Broadway Goodell\, Iowa) - (2105 110th St.  Goodell\, Iowa)\nField Da
 y Topics:  Guest Speakers – Gregg McMahen\, the Bee Guru\, from Colorad
 o and Andy Joseph\, our state’s apiarist.  Afternoon sessions will incl
 ude information on the Varroa Destructor Mite and various treatments\, wha
 t to do with your wax\, the need for pollinating plants and seed bombs\, t
 ricks of the trade from various beekeepers\, and hive inspections (please 
 bring your bee gear).\nA delicious lunch will be provided except for the d
 essert.  Please bring one to share!  Bottled water\, honey lemonade\, an
 d coffee will be available throughout the day.\nCost for members is $35\nC
 ost for non-members is $40\nWalk-ins on day of event are charged $5 more.\
 nFor information contact Mary Wiltgen\, tmwiltgen@gmail.com or 563-920-962
 8\n
LOCATION:Goodell Community Center\, 315 Broadway\, Goodell\, IA\, United St
 ates
GEO:42.92411550000001;-93.61311339999997
X-APPLE-STRUCTURED-LOCATION;VALUE=URI;X-ADDRESS=315 Broadway\, Goodell\, IA
 \, United States;X-APPLE-RADIUS=100;X-TITLE=Goodell Community Center:geo:4
 2.92411550000001,-93.61311339999997
END:VEVENT
BEGIN:VTIMEZONE
TZID:America/Chicago
X-LIC-LOCATION:America/Chicago
BEGIN:DAYLIGHT
DTSTART:20160313T030000
TZOFFSETFROM:-0600
TZOFFSETTO:-0500
TZNAME:CDT
END:DAYLIGHT
END:VTIMEZONE
END:VCALENDAR