BEGIN:VCALENDAR
VERSION:2.0
PRODID:-//wp-events-plugin.com//7.2.3.1//EN
BEGIN:VEVENT
UID:114@americanbeejournal.com
DTSTART;TZID=America/Chicago;VALUE=DATE:20161111
DTEND;TZID=America/Chicago;VALUE=DATE:20161113
DTSTAMP:20160824T192157Z
URL:https://americanbeejournal.com/events/104th-iowa-honey-producers-assoc
 iation-conference-annual-meeting/
SUMMARY:104th Iowa Honey Producers Association Conference and Annual Meetin
 g
DESCRIPTION:The IHPA Annual Meeting will be held Friday\, November 11th an
 d Saturday\, November 12th at the Clarion Hotel and Convention Center in 
 Cedar Rapids\, Iowa.\n(Friday and Saturday ~~ Registration: 8:00 am  ~~ C
 onference/Annual Meeting: 8:30 am)\n\nRoom rates for the IHPA members are:
 \n$72 plus taxes with reservations made by Thursday\, October 27th.\n\nThe
  IHPA Conference and Annual Meeting is our yearly opportunity to get toget
 her and discuss the wonders as well as mysteries of beekeeping.  This mee
 ting is open to anyone interested in beekeeping or honeybees.  We have a 
 variety of guest speakers from across the United States come to speak on t
 heir expertise in the beekeeping world.\n\nFor current beekeepers this is 
 a great time to hear what is new in beekeeping or ask questions of those w
 ith a greater number of years’ experience.  Those who are thinking abou
 t getting started in beekeeping will have numerous chances to ask\, ‘Wha
 t’s it like to keep bees?”  There will be no shortage of answers!  B
 eekeepers love to share the stories\, fun\, and enjoyment they have found 
 in beekeeping.\n\n2016 Conference and Annual Meeting Speakers include the 
 following:\nJames Tew\, Jennifer Berry\, Charlotte Hubbarb\, Andy Joseph\,
  Andy Hemken\, the Iowa Honey Queen and more!\n\nAdditional information 
 in The Buzz Newsletter and  www.iowahoneyproducers.org\nEvent will includ
 e cooking\, photo\, hive body\, and mead contest rules\, plus luncheons a
 nd banquet information.
LOCATION:Clarion Hotel & Convention Center\, 525 33rd Avenue SW\, Cedar Rap
 ids\, IA\, United States
GEO:41.9417282;-91.6752338
X-APPLE-STRUCTURED-LOCATION;VALUE=URI;X-ADDRESS=525 33rd Avenue SW\, Cedar 
 Rapids\, IA\, United States;X-APPLE-RADIUS=100;X-TITLE=Clarion Hotel & Con
 vention Center:geo:41.9417282,-91.6752338
END:VEVENT
BEGIN:VTIMEZONE
TZID:America/Chicago
X-LIC-LOCATION:America/Chicago
BEGIN:STANDARD
DTSTART:20161106T010000
TZOFFSETFROM:-0500
TZOFFSETTO:-0600
TZNAME:CST
END:STANDARD
END:VTIMEZONE
END:VCALENDAR